BEGIN:VCALENDAR
VERSION:2.0
PRODID:-//wp-events-plugin.com//7.2.3.1//EN
TZID:America/New_York
X-WR-TIMEZONE:America/New_York
BEGIN:VEVENT
UID:23@towercaresfoundation.org
DTSTART;TZID=America/New_York:20260605T070000
DTEND;TZID=America/New_York:20260605T150000
DTSTAMP:20260416T150523Z
URL:https://www.towercaresfoundation.org/events/tower-classic-golf-tournam
 ent-june-5-2026/
SUMMARY:Tower Classic Golf Tournament June 5\, 2026
DESCRIPTION:Join the annual Tower Classic Golf Tournament for a day of grea
 t golf\, contests\, refreshments\, prizes and giveaways hosted by the Towe
 rCares Foundation.
LOCATION:Renditions Golf Course\, 1380 Central Ave\, Davidsonville\, Maryla
 nd\, United States
GEO:38.91204219999999;-76.6728956
X-APPLE-STRUCTURED-LOCATION;VALUE=URI;X-ADDRESS=1380 Central Ave\, Davidson
 ville\, Maryland\, United States;X-APPLE-RADIUS=100;X-TITLE=Renditions Gol
 f Course:geo:38.91204219999999,-76.6728956
END:VEVENT
BEGIN:VTIMEZONE
TZID:America/New_York
X-LIC-LOCATION:America/New_York
BEGIN:DAYLIGHT
DTSTART:20260308T030000
TZOFFSETFROM:-0500
TZOFFSETTO:-0400
TZNAME:EDT
END:DAYLIGHT
END:VTIMEZONE
END:VCALENDAR